BEGIN:VCALENDAR
VERSION:2.0
PRODID:-//Intand Corporation//Tandem//EN
METHOD:PUBLISH
BEGIN:VEVENT
DTSTAMP:20260422T143601Z
DTSTART;VALUE=DATE:20260329
DTEND;VALUE=DATE:20260330
TRANSP:TRANSPARENT
PRIORITY:0
SUMMARY:Seattle Performance Tour
LOCATION:Seattle
DESCRIPTION:Location:\nSeattle\n\n
URL;VALUE=URI:http://bonitahigh1.tandem.co/index.php?type=view&action=even
 t&id=10048
CREATED:20260206T233838Z
LAST-MODIFIED:20260206T233838Z
UID:event-10048-bonitahigh1@intand.com
END:VEVENT
END:VCALENDAR
