BEGIN:VCALENDAR
VERSION:2.0
PRODID:-//Intand Corporation//Tandem//EN
METHOD:PUBLISH
BEGIN:VEVENT
DTSTAMP:20260422T142738Z
DTSTART:20260429T170000Z
DTEND:20260429T210000Z
TRANSP:TRANSPARENT
PRIORITY:0
SUMMARY:UPS Field Trip
LOCATION:UPS Ontario Ground Hub
DESCRIPTION:Location:\nUPS Ontario Ground Hub\n\n
URL;VALUE=URI:http://bonitahigh1.tandem.co/index.php?type=view&action=even
 t&id=10142
CREATED:20260415T164119Z
LAST-MODIFIED:20260415T164119Z
UID:event-10142-bonitahigh1@intand.com
END:VEVENT
END:VCALENDAR
