BEGIN:VCALENDAR
VERSION:2.0
PRODID:-//Intand Corporation//Tandem//EN
METHOD:PUBLISH
BEGIN:VEVENT
DTSTAMP:20260422T122330Z
DTSTART:20240829T223000Z
DTEND:20240830T010000Z
TRANSP:TRANSPARENT
PRIORITY:0
SUMMARY:FR/JV/Var Volleyball vs Los Osos (3:30/3:30/4:30)
LOCATION:Ketterling Court - New Gym
DESCRIPTION:Location:\nKetterling Court - New Gym\n\n
URL;VALUE=URI:http://bonitahigh1.tandem.co/index.php?type=view&action=even
 t&id=8140
CREATED:20240717T231137Z
LAST-MODIFIED:20240717T231137Z
UID:event-8140-bonitahigh1@intand.com
END:VEVENT
END:VCALENDAR
